BEGIN:VCALENDAR
VERSION:2.0
PRODID:-//Freedom Quilting Bee Legacy - ECPv6.15.17//NONSGML v1.0//EN
CALSCALE:GREGORIAN
METHOD:PUBLISH
X-ORIGINAL-URL:https://fqblegacy.org
X-WR-CALDESC:Events for Freedom Quilting Bee Legacy
REFRESH-INTERVAL;VALUE=DURATION:PT1H
X-Robots-Tag:noindex
X-PUBLISHED-TTL:PT1H
BEGIN:VTIMEZONE
TZID:UTC
BEGIN:STANDARD
TZOFFSETFROM:+0000
TZOFFSETTO:+0000
TZNAME:UTC
DTSTART:20240101T000000
END:STANDARD
END:VTIMEZONE
BEGIN:VEVENT
DTSTART;TZID=UTC:20250906T110000
DTEND;TZID=UTC:20250906T130000
DTSTAMP:20260419T150327
CREATED:20250527T140656Z
LAST-MODIFIED:20250612T140343Z
UID:10000345-1757156400-1757163600@fqblegacy.org
SUMMARY:Guided Tour
DESCRIPTION:A captivating journey through time\, culture\, and craftsmanship. Discover the history of a Black women-owned and operated quilt manufacturing facility. Learn of their leadership and commitment to the work for Civil Rights\, Voting Rights and Women’s Rights movements during the tumult of those struggles; learn of the marches\, and the arrests. Learn of the strategizing employed locally for desegregation of Wilcox County schools. Delve into the heartwarming stories intricately stitched into every quilt\, showcasing a profound heritage of creativity and community resilience that continues to inspire.
URL:https://fqblegacy.org/event/guided-tour-15/
LOCATION:Freedom Quilting Bee Legacy\, 4295 County Road 29\, Alberta\, AL\, 36720\, United States
CATEGORIES:Tours
END:VEVENT
BEGIN:VEVENT
DTSTART;TZID=UTC:20250913T110000
DTEND;TZID=UTC:20250913T130000
DTSTAMP:20260419T150327
CREATED:20250527T140709Z
LAST-MODIFIED:20250612T140404Z
UID:10000346-1757761200-1757768400@fqblegacy.org
SUMMARY:Guided Tour
DESCRIPTION:A captivating journey through time\, culture\, and craftsmanship. Discover the history of a Black women-owned and operated quilt manufacturing facility. Learn of their leadership and commitment to the work for Civil Rights\, Voting Rights and Women’s Rights movements during the tumult of those struggles; learn of the marches\, and the arrests. Learn of the strategizing employed locally for desegregation of Wilcox County schools. Delve into the heartwarming stories intricately stitched into every quilt\, showcasing a profound heritage of creativity and community resilience that continues to inspire.
URL:https://fqblegacy.org/event/guided-tour-16/
LOCATION:Freedom Quilting Bee Legacy\, 4295 County Road 29\, Alberta\, AL\, 36720\, United States
CATEGORIES:Tours
END:VEVENT
BEGIN:VEVENT
DTSTART;TZID=UTC:20250927T110000
DTEND;TZID=UTC:20250927T130000
DTSTAMP:20260419T150327
CREATED:20250527T140715Z
LAST-MODIFIED:20250612T140423Z
UID:10000348-1758970800-1758978000@fqblegacy.org
SUMMARY:Guided Tour
DESCRIPTION:A captivating journey through time\, culture\, and craftsmanship. Discover the history of a Black women-owned and operated quilt manufacturing facility. Learn of their leadership and commitment to the work for Civil Rights\, Voting Rights and Women’s Rights movements during the tumult of those struggles; learn of the marches\, and the arrests. Learn of the strategizing employed locally for desegregation of Wilcox County schools. Delve into the heartwarming stories intricately stitched into every quilt\, showcasing a profound heritage of creativity and community resilience that continues to inspire.
URL:https://fqblegacy.org/event/guided-tour-18/
LOCATION:Freedom Quilting Bee Legacy\, 4295 County Road 29\, Alberta\, AL\, 36720\, United States
CATEGORIES:Tours
END:VEVENT
END:VCALENDAR